BEGIN:VCALENDAR
VERSION:2.0
PRODID:-//Lakeland Historic Car Club (LHCC) - ECPv6.15.20//NONSGML v1.0//EN
CALSCALE:GREGORIAN
METHOD:PUBLISH
X-WR-CALNAME:Lakeland Historic Car Club (LHCC)
X-ORIGINAL-URL:https://lhcc.club
X-WR-CALDESC:Events for Lakeland Historic Car Club (LHCC)
REFRESH-INTERVAL;VALUE=DURATION:PT1H
X-Robots-Tag:noindex
X-PUBLISHED-TTL:PT1H
BEGIN:VTIMEZONE
TZID:Europe/London
BEGIN:DAYLIGHT
TZOFFSETFROM:+0000
TZOFFSETTO:+0100
TZNAME:BST
DTSTART:20230326T010000
END:DAYLIGHT
BEGIN:STANDARD
TZOFFSETFROM:+0100
TZOFFSETTO:+0000
TZNAME:GMT
DTSTART:20231029T010000
END:STANDARD
BEGIN:DAYLIGHT
TZOFFSETFROM:+0000
TZOFFSETTO:+0100
TZNAME:BST
DTSTART:20240331T010000
END:DAYLIGHT
BEGIN:STANDARD
TZOFFSETFROM:+0100
TZOFFSETTO:+0000
TZNAME:GMT
DTSTART:20241027T010000
END:STANDARD
BEGIN:DAYLIGHT
TZOFFSETFROM:+0000
TZOFFSETTO:+0100
TZNAME:BST
DTSTART:20250330T010000
END:DAYLIGHT
BEGIN:STANDARD
TZOFFSETFROM:+0100
TZOFFSETTO:+0000
TZNAME:GMT
DTSTART:20251026T010000
END:STANDARD
BEGIN:DAYLIGHT
TZOFFSETFROM:+0000
TZOFFSETTO:+0100
TZNAME:BST
DTSTART:20260329T010000
END:DAYLIGHT
BEGIN:STANDARD
TZOFFSETFROM:+0100
TZOFFSETTO:+0000
TZNAME:GMT
DTSTART:20261025T010000
END:STANDARD
END:VTIMEZONE
BEGIN:VEVENT
DTSTART;VALUE=DATE:20250522
DTEND;VALUE=DATE:20250523
DTSTAMP:20260422T010249
CREATED:20250505T092711Z
LAST-MODIFIED:20250505T092711Z
UID:4553-1747872000-1747958399@lhcc.club
SUMMARY:Club Evening Chippy Run
DESCRIPTION:Meet at the layby on the A5284 Windermere Rd (just off Plumgarth Roundabout) More Details in Newsletter
URL:https://lhcc.club/event/club-evening-chippy-run/
END:VEVENT
BEGIN:VEVENT
DTSTART;VALUE=DATE:20250516
DTEND;VALUE=DATE:20250517
DTSTAMP:20260422T010249
CREATED:20250505T092546Z
LAST-MODIFIED:20250505T092546Z
UID:4551-1747353600-1747439999@lhcc.club
SUMMARY:Bluebell Picnic Run
DESCRIPTION:Starts Lane End and Finihses at Grange Prom car park- Just turn up and run. More Details in Newsletter
URL:https://lhcc.club/event/bluebell-picnic-run/
END:VEVENT
BEGIN:VEVENT
DTSTART;VALUE=DATE:20250427
DTEND;VALUE=DATE:20250428
DTSTAMP:20260422T010249
CREATED:20250321T101537Z
LAST-MODIFIED:20250321T101537Z
UID:4541-1745712000-1745798399@lhcc.club
SUMMARY:Drive It Day
DESCRIPTION:Club Run from Kirkby Stephen finishing at Devils Bridge (55mi trip) & 1hr 15 minutes driving time. More Details in Newsletter
URL:https://lhcc.club/event/drive-it-day-3/
END:VEVENT
BEGIN:VEVENT
DTSTART;VALUE=DATE:20250420
DTEND;VALUE=DATE:20250421
DTSTAMP:20260422T010249
CREATED:20250319T094655Z
LAST-MODIFIED:20250319T094655Z
UID:4533-1745107200-1745193599@lhcc.club
SUMMARY:Levens Hall Opening Event
DESCRIPTION:LHCC exhibitors Free Entry to Gardens\, reduced Fee Entry to house. 1;00pm start.  No Dogs\, DO NOT PARK ON THE GRASS and No “For Sale Signs”
URL:https://lhcc.club/event/levens-hall-opening-event/
END:VEVENT
BEGIN:VEVENT
DTSTART;VALUE=DATE:20250419
DTEND;VALUE=DATE:20250421
DTSTAMP:20260422T010249
CREATED:20250319T094901Z
LAST-MODIFIED:20250319T095121Z
UID:4535-1745020800-1745193599@lhcc.club
SUMMARY:Kirkby Stephen Easter Transport Weekend
DESCRIPTION:A two day event for the Cumbria Transport Easter Rally. Can turn up on the day if you wish\, drive around or ride on a vintage bus(Most club members attend the saturday)
URL:https://lhcc.club/event/kirkby-stephen-easter-transport-fair-sat-sun/
END:VEVENT
BEGIN:VEVENT
DTSTART;VALUE=DATE:20250405
DTEND;VALUE=DATE:20250406
DTSTAMP:20260422T010249
CREATED:20250321T101329Z
LAST-MODIFIED:20250321T101329Z
UID:4539-1743811200-1743897599@lhcc.club
SUMMARY:Club Monthly Meet
DESCRIPTION:Our monthly meet up at Cafe Ambio at the Lakeland Motor Museum from 10:00am
URL:https://lhcc.club/event/club-monthly-meet-4/
END:VEVENT
BEGIN:VEVENT
DTSTART;VALUE=DATE:20250308
DTEND;VALUE=DATE:20250309
DTSTAMP:20260422T010249
CREATED:20250303T085106Z
LAST-MODIFIED:20250307T104804Z
UID:4525-1741392000-1741478399@lhcc.club
SUMMARY:LHCC AGM
DESCRIPTION:Our Annual General Meeting held at Villa Levens\, all members welcome start time is 10:30am 
URL:https://lhcc.club/event/lhcc-agm-2/
END:VEVENT
BEGIN:VEVENT
DTSTART;VALUE=DATE:20250301
DTEND;VALUE=DATE:20250302
DTSTAMP:20260422T010249
CREATED:20250204T100352Z
LAST-MODIFIED:20250204T100352Z
UID:4515-1740787200-1740873599@lhcc.club
SUMMARY:Club Monthly Meet
DESCRIPTION:Our monthly club meet at the Lakeland Motor Museum – Park club cars outside the cafe from 10:00am
URL:https://lhcc.club/event/club-monthly-meet-3/
CATEGORIES:Club Meets
END:VEVENT
BEGIN:VEVENT
DTSTART;TZID=Europe/London:20250215T090000
DTEND;TZID=Europe/London:20250215T130000
DTSTAMP:20260422T010249
CREATED:20241209T154454Z
LAST-MODIFIED:20241209T154454Z
UID:4504-1739610000-1739624400@lhcc.club
SUMMARY:Preston Patrick AutoJumble
DESCRIPTION:Open 09:00 till 13:00 Refreshments Available just off junction 36 on M6 LA7 7NR \n£1 Entry Fee
URL:https://lhcc.club/event/preston-patrick-autojumble/
CATEGORIES:Autojumble
ATTACH;FMTTYPE=image/jpeg:https://lhcc.club/wp-content/uploads/2022/02/pexels-oleg-titberiya-11058849-scaled.jpg
END:VEVENT
BEGIN:VEVENT
DTSTART;VALUE=DATE:20250126
DTEND;VALUE=DATE:20250127
DTSTAMP:20260422T010249
CREATED:20250107T092552Z
LAST-MODIFIED:20250107T092552Z
UID:4511-1737849600-1737935999@lhcc.club
SUMMARY:January Lunch
DESCRIPTION:Ulverston Golf Club Two Course Carvery with a choice of dessert & Tea or Coffee £16.95 per head. Book with Cheryl / Chris Wooton
URL:https://lhcc.club/event/january-lunch-2/
END:VEVENT
BEGIN:VEVENT
DTSTART;VALUE=DATE:20250104
DTEND;VALUE=DATE:20250105
DTSTAMP:20260422T010249
CREATED:20241209T155142Z
LAST-MODIFIED:20241209T155142Z
UID:4508-1735948800-1736035199@lhcc.club
SUMMARY:Club Meet
DESCRIPTION:Our first club meet of 2025 at Lakeland Motor Museum
URL:https://lhcc.club/event/club-meet-9/
END:VEVENT
BEGIN:VEVENT
DTSTART;VALUE=DATE:20241226
DTEND;VALUE=DATE:20241227
DTSTAMP:20260422T010249
CREATED:20241209T154853Z
LAST-MODIFIED:20241209T154853Z
UID:4506-1735171200-1735257599@lhcc.club
SUMMARY:Drive It Boxing Day Meet
DESCRIPTION:Lakeland Motor Museum | More Info in Newsletter
URL:https://lhcc.club/event/drive-it-boxing-day-meet-2/
ATTACH;FMTTYPE=image/jpeg:https://lhcc.club/wp-content/uploads/2021/12/pexels-ma-boîte-a-photos-236128-scaled.jpg
END:VEVENT
BEGIN:VEVENT
DTSTART;VALUE=DATE:20241221
DTEND;VALUE=DATE:20241222
DTSTAMP:20260422T010249
CREATED:20240930T190138Z
LAST-MODIFIED:20240930T190138Z
UID:4480-1734739200-1734825599@lhcc.club
SUMMARY:Christmas Lunch
DESCRIPTION:Royal Windermere Yacht Club lunch again as per 2023! More Details in Adv. Notices of Oct/Nov Newsletter
URL:https://lhcc.club/event/christmas-lunch-2/
END:VEVENT
BEGIN:VEVENT
DTSTART;VALUE=DATE:20241206
DTEND;VALUE=DATE:20241207
DTSTAMP:20260422T010249
CREATED:20240930T190026Z
LAST-MODIFIED:20240930T190026Z
UID:4478-1733443200-1733529599@lhcc.club
SUMMARY:Christmas Dinner & Party Night
DESCRIPTION:Christmas Fayre & Fun – More Details & Menu enclosed in hardcopy of Oct/Nov Newsletter
URL:https://lhcc.club/event/christmas-dinner-party-night/
ATTACH;FMTTYPE=image/jpeg:https://lhcc.club/wp-content/uploads/2021/09/pexels-nadi-lindsay-3521963-scaled.jpg
END:VEVENT
BEGIN:VEVENT
DTSTART;VALUE=DATE:20241110
DTEND;VALUE=DATE:20241111
DTSTAMP:20260422T010249
CREATED:20240930T185651Z
LAST-MODIFIED:20240930T185717Z
UID:4476-1731196800-1731283199@lhcc.club
SUMMARY:Club Lunch - Pheasant Inn
DESCRIPTION:Club Lunch at the Pheasant – see hardcopy of newsletter for more information
URL:https://lhcc.club/event/club-lunch-pheasant-inn/
ATTACH;FMTTYPE=image/jpeg:https://lhcc.club/wp-content/uploads/2021/10/pheasantinnlogo.jpeg
END:VEVENT
BEGIN:VEVENT
DTSTART;VALUE=DATE:20241102
DTEND;VALUE=DATE:20241103
DTSTAMP:20260422T010249
CREATED:20240930T185532Z
LAST-MODIFIED:20240930T185532Z
UID:4474-1730505600-1730591999@lhcc.club
SUMMARY:Club Meet
DESCRIPTION:Our usual club meet up at Lakeland Motor Museum
URL:https://lhcc.club/event/club-meet-5/
ATTACH;FMTTYPE=image/jpeg:https://lhcc.club/wp-content/uploads/2020/05/lhcc_new_website_banner_optimised_033d3e72c055882e171f6f47881c2a7f.jpg
END:VEVENT
BEGIN:VEVENT
DTSTART;VALUE=DATE:20241005
DTEND;VALUE=DATE:20241006
DTSTAMP:20260422T010249
CREATED:20240930T185433Z
LAST-MODIFIED:20240930T185433Z
UID:4472-1728086400-1728172799@lhcc.club
SUMMARY:Club Meet
DESCRIPTION:Our usual club meet at Lakeland Motor Museum
URL:https://lhcc.club/event/club-meet-4/
CATEGORIES:Club Display,Monthly Coffee Morning
ATTACH;FMTTYPE=image/jpeg:https://lhcc.club/wp-content/uploads/2020/05/lhcc_new_website_banner_optimised_033d3e72c055882e171f6f47881c2a7f.jpg
END:VEVENT
BEGIN:VEVENT
DTSTART;VALUE=DATE:20240929
DTEND;VALUE=DATE:20240930
DTSTAMP:20260422T010249
CREATED:20240910T064434Z
LAST-MODIFIED:20240910T064434Z
UID:4453-1727568000-1727654399@lhcc.club
SUMMARY:End of Season Run
DESCRIPTION:Devils Bridge Start 57 Miles with Lunch Stop then Return to Devils Bridge – More Details in newsletter
URL:https://lhcc.club/event/end-of-season-run-3/
END:VEVENT
BEGIN:VEVENT
DTSTART;VALUE=DATE:20240914
DTEND;VALUE=DATE:20240915
DTSTAMP:20260422T010249
CREATED:20240910T064300Z
LAST-MODIFIED:20240910T064300Z
UID:4451-1726272000-1726358399@lhcc.club
SUMMARY:Lytham Car Show
DESCRIPTION:£5 per car (2 people) Discounted Hall entry. For more info email lythamhallcarshows@gmail.com
URL:https://lhcc.club/event/lytham-car-show/
END:VEVENT
BEGIN:VEVENT
DTSTART;VALUE=DATE:20240912
DTEND;VALUE=DATE:20240913
DTSTAMP:20260422T010249
CREATED:20240910T064113Z
LAST-MODIFIED:20240910T064113Z
UID:4449-1726099200-1726185599@lhcc.club
SUMMARY:Westmorland Show (Thurs)
DESCRIPTION:We are invited to have as many cars as we wish as Westmorland Show Ticket Price per car (2 people) is £14 instead of £64 saving members £50 Contact Paul Senior for more details
URL:https://lhcc.club/event/westmorland-show-thurs/
END:VEVENT
BEGIN:VEVENT
DTSTART;VALUE=DATE:20240911
DTEND;VALUE=DATE:20240912
DTSTAMP:20260422T010249
CREATED:20240910T064037Z
LAST-MODIFIED:20240910T064037Z
UID:4447-1726012800-1726099199@lhcc.club
SUMMARY:Westmorland Show (Wednesday)
DESCRIPTION:We are invited to have as many cars as we wish as Westmorland Show Ticket Price per car (2 people) is £14 instead of £64 saving members £50 Contact Paul Senior for more details
URL:https://lhcc.club/event/westmorland-show-wednesday-2/
END:VEVENT
BEGIN:VEVENT
DTSTART;VALUE=DATE:20240908
DTEND;VALUE=DATE:20240909
DTSTAMP:20260422T010249
CREATED:20240825T084319Z
LAST-MODIFIED:20240825T084350Z
UID:4435-1725753600-1725839999@lhcc.club
SUMMARY:Picnic Run
DESCRIPTION:Westmorland & Furness Picnic Run (Not Eden Valley as originally planned) More Details in newsletter
URL:https://lhcc.club/event/picnic-run-2/
END:VEVENT
BEGIN:VEVENT
DTSTART;VALUE=DATE:20240907
DTEND;VALUE=DATE:20240908
DTSTAMP:20260422T010249
CREATED:20240825T084009Z
LAST-MODIFIED:20240825T084022Z
UID:4432-1725667200-1725753599@lhcc.club
SUMMARY:Club Monthly Meet
DESCRIPTION:Our monthly meet at Lakeland Motor Museum
URL:https://lhcc.club/event/club-monthly-meet/
ATTACH;FMTTYPE=image/jpeg:https://lhcc.club/wp-content/uploads/2020/05/lhcc_new_website_banner_optimised_033d3e72c055882e171f6f47881c2a7f.jpg
END:VEVENT
BEGIN:VEVENT
DTSTART;VALUE=DATE:20240901
DTEND;VALUE=DATE:20240902
DTSTAMP:20260422T010249
CREATED:20240825T083843Z
LAST-MODIFIED:20240825T084106Z
UID:4430-1725148800-1725235199@lhcc.club
SUMMARY:Vintage By The Sea (Sunday)
DESCRIPTION:Midland Hotel Morecambe Contact John Dawes info@vintagebytheseahemingway.co.uk
URL:https://lhcc.club/event/vintage-by-the-sea-sunday/
ATTACH;FMTTYPE=image/jpeg:https://lhcc.club/wp-content/uploads/2024/08/lancaster-n-morecambe-444.jpg
END:VEVENT
BEGIN:VEVENT
DTSTART;VALUE=DATE:20240831
DTEND;VALUE=DATE:20240901
DTSTAMP:20260422T010249
CREATED:20240825T083749Z
LAST-MODIFIED:20240825T084047Z
UID:4428-1725062400-1725148799@lhcc.club
SUMMARY:Vintage by The Sea (Saturday)
DESCRIPTION:Midland Hotel Morecambe Contact John Dawes info@vintagebytheseahemingway.co.uk
URL:https://lhcc.club/event/vintage-by-the-sea-saturday/
ATTACH;FMTTYPE=image/jpeg:https://lhcc.club/wp-content/uploads/2024/08/lancaster-n-morecambe-444.jpg
END:VEVENT
BEGIN:VEVENT
DTSTART;VALUE=DATE:20240825
DTEND;VALUE=DATE:20240826
DTSTAMP:20260422T010249
CREATED:20240801T220827Z
LAST-MODIFIED:20240801T220827Z
UID:4425-1724544000-1724630399@lhcc.club
SUMMARY:Grassmere Lakeland Sports & Show
DESCRIPTION:LHCC Display with limited spaces of 10 cars. More details in newsletter
URL:https://lhcc.club/event/grassmere-lakeland-sports-show-2/
ATTACH;FMTTYPE=image/jpeg:https://lhcc.club/wp-content/uploads/2021/07/pexels-fox-212324.jpg
END:VEVENT
BEGIN:VEVENT
DTSTART;VALUE=DATE:20240818
DTEND;VALUE=DATE:20240819
DTSTAMP:20260422T010249
CREATED:20240801T220301Z
LAST-MODIFIED:20240801T220301Z
UID:4423-1723939200-1724025599@lhcc.club
SUMMARY:Cumbria Classic Weekend (Sunday)
DESCRIPTION:Rose & Thistle Run Toue on Saturday
URL:https://lhcc.club/event/cumbria-classic-weekend-sunday/
END:VEVENT
BEGIN:VEVENT
DTSTART;VALUE=DATE:20240817
DTEND;VALUE=DATE:20240818
DTSTAMP:20260422T010249
CREATED:20240801T215321Z
LAST-MODIFIED:20240801T215321Z
UID:4421-1723852800-1723939199@lhcc.club
SUMMARY:Cumbria Classic Weekend (Saturday)
DESCRIPTION:Rose & Thistle Run Show at Dalemain on Sunday – Register at –> wigtonmc.co.uk/events
URL:https://lhcc.club/event/cumbria-classic-weekend-saturday/
CATEGORIES:Club Display
END:VEVENT
BEGIN:VEVENT
DTSTART;VALUE=DATE:20240814
DTEND;VALUE=DATE:20240815
DTSTAMP:20260422T010249
CREATED:20240825T084512Z
LAST-MODIFIED:20240825T084512Z
UID:4437-1723593600-1723679999@lhcc.club
SUMMARY:Lytham Hall Car Show
DESCRIPTION:£5 per car (2 People) Discounted Hal lEntry tickets – More Details in newsletter
URL:https://lhcc.club/event/lytham-hall-car-show/
END:VEVENT
BEGIN:VEVENT
DTSTART;VALUE=DATE:20240811
DTEND;VALUE=DATE:20240812
DTSTAMP:20260422T010249
CREATED:20240801T215053Z
LAST-MODIFIED:20240801T215053Z
UID:4419-1723334400-1723420799@lhcc.club
SUMMARY:Classic Over Sands
DESCRIPTION:Grange Car Show – A Great Day Out! Entertainment \, Food and Bar. £6 Entry more details in Newsletter
URL:https://lhcc.club/event/classic-over-sands-2/
END:VEVENT
END:VCALENDAR