BEGIN:VCALENDAR
VERSION:2.0
PRODID:-//Lakeland Historic Car Club (LHCC) - ECPv6.15.20//NONSGML v1.0//EN
CALSCALE:GREGORIAN
METHOD:PUBLISH
X-WR-CALNAME:Lakeland Historic Car Club (LHCC)
X-ORIGINAL-URL:https://lhcc.club
X-WR-CALDESC:Events for Lakeland Historic Car Club (LHCC)
REFRESH-INTERVAL;VALUE=DURATION:PT1H
X-Robots-Tag:noindex
X-PUBLISHED-TTL:PT1H
BEGIN:VTIMEZONE
TZID:Europe/London
BEGIN:DAYLIGHT
TZOFFSETFROM:+0000
TZOFFSETTO:+0100
TZNAME:BST
DTSTART:20250330T010000
END:DAYLIGHT
BEGIN:STANDARD
TZOFFSETFROM:+0100
TZOFFSETTO:+0000
TZNAME:GMT
DTSTART:20251026T010000
END:STANDARD
BEGIN:DAYLIGHT
TZOFFSETFROM:+0000
TZOFFSETTO:+0100
TZNAME:BST
DTSTART:20260329T010000
END:DAYLIGHT
BEGIN:STANDARD
TZOFFSETFROM:+0100
TZOFFSETTO:+0000
TZNAME:GMT
DTSTART:20261025T010000
END:STANDARD
BEGIN:DAYLIGHT
TZOFFSETFROM:+0000
TZOFFSETTO:+0100
TZNAME:BST
DTSTART:20270328T010000
END:DAYLIGHT
BEGIN:STANDARD
TZOFFSETFROM:+0100
TZOFFSETTO:+0000
TZNAME:GMT
DTSTART:20271031T010000
END:STANDARD
END:VTIMEZONE
BEGIN:VEVENT
DTSTART;VALUE=DATE:20260214
DTEND;VALUE=DATE:20260215
DTSTAMP:20260421T212904
CREATED:20260123T090959Z
LAST-MODIFIED:20260123T090959Z
UID:4656-1771027200-1771113599@lhcc.club
SUMMARY:Club AutoJumble
DESCRIPTION:Preston Patrick Memorial Hall. If you haven’t had a table before at this event and would like one.Please contact David Molyneux as soon as possible.
URL:https://lhcc.club/event/club-autojumble-2/
CATEGORIES:Autojumble
END:VEVENT
BEGIN:VEVENT
DTSTART;VALUE=DATE:20260221
DTEND;VALUE=DATE:20260222
DTSTAMP:20260421T212904
CREATED:20260123T091200Z
LAST-MODIFIED:20260123T091200Z
UID:4658-1771632000-1771718399@lhcc.club
SUMMARY:Club Meet
DESCRIPTION:Our usual informally monthly “3rd Saturday” coffee morning meet at the Cafe Ambio at the Lakeland Motor Museum on the A590 Backbarrow. Park club cars outside cafe.
URL:https://lhcc.club/event/club-meet-8/
END:VEVENT
BEGIN:VEVENT
DTSTART;VALUE=DATE:20260307
DTEND;VALUE=DATE:20260308
DTSTAMP:20260421T212904
CREATED:20260224T095523Z
LAST-MODIFIED:20260224T100657Z
UID:4665-1772841600-1772927999@lhcc.club
SUMMARY:LHCC AGM
DESCRIPTION:The club’s Annual General Meeting will be held at the\nStation Inn at Oxenholme – on the B6254 (more details in newsletter) \nAll members of course are welcome and encouraged to\nattend.\nFood will be available at lunchtime after the meeting.\nAll attendees must please notify Paul Senior by February 28th.
URL:https://lhcc.club/event/lhcc-agm-3/
CATEGORIES:AGM's
END:VEVENT
BEGIN:VEVENT
DTSTART;VALUE=DATE:20260321
DTEND;VALUE=DATE:20260322
DTSTAMP:20260421T212904
CREATED:20260224T095703Z
LAST-MODIFIED:20260224T095703Z
UID:4667-1774051200-1774137599@lhcc.club
SUMMARY:Club Meet
DESCRIPTION:Our usual informal monthly “3rd Saturday” coffee morning at the Café Ambio at the Lakeland\nMotor Museum on the A590 at Backbarrow. Park club cars outside the café from 9:30am.
URL:https://lhcc.club/event/club-meet-10/
END:VEVENT
BEGIN:VEVENT
DTSTART;VALUE=DATE:20260404
DTEND;VALUE=DATE:20260405
DTSTAMP:20260421T212904
CREATED:20260401T090044Z
LAST-MODIFIED:20260401T091042Z
UID:4680-1775260800-1775347199@lhcc.club
SUMMARY:Cumbria Transport Easter Rally (Saturday)
DESCRIPTION:Predominantly commercial vehicles\, trucks and buses. Individual attendance\, no formal LHCC presence. Book in advance by clicking here (this will open a new tab for the Cumbria Easter Rally website).
URL:https://lhcc.club/event/cumbria-transport-easter-rally-saturday/
END:VEVENT
BEGIN:VEVENT
DTSTART;VALUE=DATE:20260405
DTEND;VALUE=DATE:20260406
DTSTAMP:20260421T212904
CREATED:20260401T090138Z
LAST-MODIFIED:20260401T091116Z
UID:4682-1775347200-1775433599@lhcc.club
SUMMARY:Cumbria Transport Easter Rally (Sunday)
DESCRIPTION:Predominantly commercial vehicles\, trucks and buses. Individual attendance\, no formal LHCC presence. Book in advance by clicking here (this will open a new tab for the Cumbria Easter Rally website).
URL:https://lhcc.club/event/cumbria-transport-easter-rally-sunday/
END:VEVENT
BEGIN:VEVENT
DTSTART;VALUE=DATE:20260405
DTEND;VALUE=DATE:20260406
DTSTAMP:20260421T212904
CREATED:20260401T090213Z
LAST-MODIFIED:20260401T091307Z
UID:4684-1775347200-1775433599@lhcc.club
SUMMARY:Levens Hall Opening Event
DESCRIPTION:LHCC display at Levens Hall\, Park in dedicated area in front of the hall\, No for sale signs. Strickly no dogs. Gates to display area open at 11:00am Please do not arrive before 10:45. Free access to gardens\, cafe open as usual.
URL:https://lhcc.club/event/levens-hall-opening-event-2/
END:VEVENT
BEGIN:VEVENT
DTSTART;VALUE=DATE:20260418
DTEND;VALUE=DATE:20260419
DTSTAMP:20260421T212904
CREATED:20260401T090711Z
LAST-MODIFIED:20260401T090711Z
UID:4688-1776470400-1776556799@lhcc.club
SUMMARY:Club Meet
DESCRIPTION:Our usual 3rd Saturday Club meet at the Lakeland Motor Museum\, park cars outside Museum from 9:30am
URL:https://lhcc.club/event/club-meet/
END:VEVENT
BEGIN:VEVENT
DTSTART;VALUE=DATE:20260426
DTEND;VALUE=DATE:20260427
DTSTAMP:20260421T212904
CREATED:20260401T090307Z
LAST-MODIFIED:20260401T090307Z
UID:4686-1777161600-1777247999@lhcc.club
SUMMARY:Drive It Day
DESCRIPTION:Drive it Day – From the Motor Museum to Barrow Dock Museum \n 
URL:https://lhcc.club/event/drive-it-day/
END:VEVENT
BEGIN:VEVENT
DTSTART;VALUE=DATE:20260503
DTEND;VALUE=DATE:20260504
DTSTAMP:20260421T212904
CREATED:20260401T091534Z
LAST-MODIFIED:20260401T091534Z
UID:4695-1777766400-1777852799@lhcc.club
SUMMARY:Ford Park Classic Car Show
DESCRIPTION:Ulverston La12 7JP. 11am -4pm £2 per classic car.  Click Here to be taken to Ford Park website to buy tickets for this event
URL:https://lhcc.club/event/ford-park-classic-car-show/
END:VEVENT
END:VCALENDAR