BEGIN:VCALENDAR
VERSION:2.0
PRODID:-//Lakeland Historic Car Club (LHCC) - ECPv6.15.20//NONSGML v1.0//EN
CALSCALE:GREGORIAN
METHOD:PUBLISH
X-WR-CALNAME:Lakeland Historic Car Club (LHCC)
X-ORIGINAL-URL:https://lhcc.club
X-WR-CALDESC:Events for Lakeland Historic Car Club (LHCC)
REFRESH-INTERVAL;VALUE=DURATION:PT1H
X-Robots-Tag:noindex
X-PUBLISHED-TTL:PT1H
BEGIN:VTIMEZONE
TZID:Europe/London
BEGIN:DAYLIGHT
TZOFFSETFROM:+0000
TZOFFSETTO:+0100
TZNAME:BST
DTSTART:20240331T010000
END:DAYLIGHT
BEGIN:STANDARD
TZOFFSETFROM:+0100
TZOFFSETTO:+0000
TZNAME:GMT
DTSTART:20241027T010000
END:STANDARD
BEGIN:DAYLIGHT
TZOFFSETFROM:+0000
TZOFFSETTO:+0100
TZNAME:BST
DTSTART:20250330T010000
END:DAYLIGHT
BEGIN:STANDARD
TZOFFSETFROM:+0100
TZOFFSETTO:+0000
TZNAME:GMT
DTSTART:20251026T010000
END:STANDARD
BEGIN:DAYLIGHT
TZOFFSETFROM:+0000
TZOFFSETTO:+0100
TZNAME:BST
DTSTART:20260329T010000
END:DAYLIGHT
BEGIN:STANDARD
TZOFFSETFROM:+0100
TZOFFSETTO:+0000
TZNAME:GMT
DTSTART:20261025T010000
END:STANDARD
END:VTIMEZONE
BEGIN:VEVENT
DTSTART;VALUE=DATE:20251204
DTEND;VALUE=DATE:20251205
DTSTAMP:20260424T170956
CREATED:20251125T092806Z
LAST-MODIFIED:20251125T092806Z
UID:4641-1764806400-1764892799@lhcc.club
SUMMARY:LHCC Christmas Dinner
DESCRIPTION:The Longlands Hotel\, Tewitfield\, Carnforth La6 1JH. Ring Margaret for more details\, cancellations and availability. Coffee and Mince Pies included in the meal cost.
URL:https://lhcc.club/event/lhcc-christmas-dinner/
CATEGORIES:Christmas
END:VEVENT
END:VCALENDAR