BEGIN:VCALENDAR
VERSION:2.0
PRODID:-//Lakeland Historic Car Club (LHCC) - ECPv6.15.20//NONSGML v1.0//EN
CALSCALE:GREGORIAN
METHOD:PUBLISH
X-WR-CALNAME:Lakeland Historic Car Club (LHCC)
X-ORIGINAL-URL:https://lhcc.club
X-WR-CALDESC:Events for Lakeland Historic Car Club (LHCC)
REFRESH-INTERVAL;VALUE=DURATION:PT1H
X-Robots-Tag:noindex
X-PUBLISHED-TTL:PT1H
BEGIN:VTIMEZONE
TZID:Europe/London
BEGIN:DAYLIGHT
TZOFFSETFROM:+0000
TZOFFSETTO:+0100
TZNAME:BST
DTSTART:20240331T010000
END:DAYLIGHT
BEGIN:STANDARD
TZOFFSETFROM:+0100
TZOFFSETTO:+0000
TZNAME:GMT
DTSTART:20241027T010000
END:STANDARD
BEGIN:DAYLIGHT
TZOFFSETFROM:+0000
TZOFFSETTO:+0100
TZNAME:BST
DTSTART:20250330T010000
END:DAYLIGHT
BEGIN:STANDARD
TZOFFSETFROM:+0100
TZOFFSETTO:+0000
TZNAME:GMT
DTSTART:20251026T010000
END:STANDARD
BEGIN:DAYLIGHT
TZOFFSETFROM:+0000
TZOFFSETTO:+0100
TZNAME:BST
DTSTART:20260329T010000
END:DAYLIGHT
BEGIN:STANDARD
TZOFFSETFROM:+0100
TZOFFSETTO:+0000
TZNAME:GMT
DTSTART:20261025T010000
END:STANDARD
END:VTIMEZONE
BEGIN:VEVENT
DTSTART;VALUE=DATE:20250831
DTEND;VALUE=DATE:20250901
DTSTAMP:20260424T171058
CREATED:20250813T093021Z
LAST-MODIFIED:20250813T093021Z
UID:4622-1756598400-1756684799@lhcc.club
SUMMARY:Club Run Dales
DESCRIPTION:Meet at Country Harvest car park\, run through Hawes\, Buckden\, Kettlewell\, Wensley & Castle Bolton then back to Hawes\, 58 Miles. Bring a Picnic. More Details in Newsletter
URL:https://lhcc.club/event/club-run-dales/
END:VEVENT
END:VCALENDAR