BEGIN:VCALENDAR
VERSION:2.0
PRODID:-//Lakeland Historic Car Club (LHCC) - ECPv6.15.20//NONSGML v1.0//EN
CALSCALE:GREGORIAN
METHOD:PUBLISH
X-WR-CALNAME:Lakeland Historic Car Club (LHCC)
X-ORIGINAL-URL:https://lhcc.club
X-WR-CALDESC:Events for Lakeland Historic Car Club (LHCC)
REFRESH-INTERVAL;VALUE=DURATION:PT1H
X-Robots-Tag:noindex
X-PUBLISHED-TTL:PT1H
BEGIN:VTIMEZONE
TZID:Europe/London
BEGIN:DAYLIGHT
TZOFFSETFROM:+0000
TZOFFSETTO:+0100
TZNAME:BST
DTSTART:20240331T010000
END:DAYLIGHT
BEGIN:STANDARD
TZOFFSETFROM:+0100
TZOFFSETTO:+0000
TZNAME:GMT
DTSTART:20241027T010000
END:STANDARD
BEGIN:DAYLIGHT
TZOFFSETFROM:+0000
TZOFFSETTO:+0100
TZNAME:BST
DTSTART:20250330T010000
END:DAYLIGHT
BEGIN:STANDARD
TZOFFSETFROM:+0100
TZOFFSETTO:+0000
TZNAME:GMT
DTSTART:20251026T010000
END:STANDARD
BEGIN:DAYLIGHT
TZOFFSETFROM:+0000
TZOFFSETTO:+0100
TZNAME:BST
DTSTART:20260329T010000
END:DAYLIGHT
BEGIN:STANDARD
TZOFFSETFROM:+0100
TZOFFSETTO:+0000
TZNAME:GMT
DTSTART:20261025T010000
END:STANDARD
END:VTIMEZONE
BEGIN:VEVENT
DTSTART;VALUE=DATE:20251109
DTEND;VALUE=DATE:20251110
DTSTAMP:20260424T171412
CREATED:20251012T090718Z
LAST-MODIFIED:20251012T090732Z
UID:4632-1762646400-1762732799@lhcc.club
SUMMARY:Club Lunch at The Pheasant Inn
DESCRIPTION:Make your choices and how many courses you require. Send your names & choices to Tim by the 23rd of October. DO NOT SEND PAYMENT. Pay on the day and bring a record of your choices.  See Page 5 of the Newsletter for Menu.
URL:https://lhcc.club/event/club-lunch-at-the-pheasant-inn/
ATTACH;FMTTYPE=image/jpeg:https://lhcc.club/wp-content/uploads/2021/10/pheasantinnlogo.jpeg
END:VEVENT
END:VCALENDAR